BEGIN:VCALENDAR
VERSION:2.0
PRODID:-//eventon.com NONSGML v1.0//EN
BEGIN:VEVENT
UID:69e73cbebd564
DTSTAMP:20260421T110046
DTSTART:20210820
DTEND:20210822
TZID:UTC
LOCATION:Oberlausitz oberlausitz 
SUMMARY:Kommen und Gehen Festival
DESCRIPTION: Kommen und Gehen Festival\nhttps://paranormalstringquartet.com/events/kommen-und-gehen-festival/
URL:https://paranormalstringquartet.com/events/kommen-und-gehen-festival/
END:VEVENT
END:VCALENDAR